BEGIN:VCALENDAR
VERSION:2.0
PRODID:-//Department Of Education//c35b622b-9ab1-4981-9ed0-c3dcede742fa
BEGIN:VTIMEZONE
TZID:Australia/Sydney
TZURL:http://tzurl.org/zoneinfo-outlook/Australia/Sydney
X-LIC-LOCATION:Australia/Sydney
BEGIN:STANDARD
TZOFFSETFROM:+1100
TZOFFSETTO:+1000
TZNAME:AEST
DTSTART:19700405T030000
RRULE:FREQ=YEARLY;BYMONTH=4;BYDAY=1SU
END:STANDARD
BEGIN:DAYLIGHT
TZOFFSETFROM:+1000
TZOFFSETTO:+1100
TZNAME:AEDT
DTSTART:19701004T020000
RRULE:FREQ=YEARLY;BYMONTH=10;BYDAY=1SU
END:DAYLIGHT
END:VTIMEZONE
CALSCALE:GREGORIAN
X-WR-TIMEZONE:Australia/Sydney
BEGIN:VEVENT
DTSTART;TZID=Australia/Sydney:20200317T113005
DTEND;TZID=Australia/Sydney:20200317T020012
DTSTAMP:20200317T000000Z
UID:0e3491d0-ed4f-44a6-8970-09960f21f22f
LOCATION:Rowland Hassall School 
SUMMARY;LANGUAGE=en-us:Parent/ Carers information Day + Free Lunch 
SEQUENCE:0
DESCRIPTION:Parent/ Carers information Day. March 17th 1130am ? 2pm -         A free lunch  ·         NDIS information and support from NDIS Providers /         Groups.                                                    ·      Post school Support groups.                             ·      Work Experience and TVET information.               ·       RHS 2020 and beyond.                                    ·      RSVP ? 02 96454800 for more information 
END:VEVENT
TRANSP:TRANSPARENT
END:VCALENDAR
